BEGIN:VCALENDAR
VERSION:2.0
PRODID:-//Maria Escribano Soprano - ECPv6.15.7//NONSGML v1.0//EN
CALSCALE:GREGORIAN
METHOD:PUBLISH
X-ORIGINAL-URL:https://mariaescribanosoprano.com
X-WR-CALDESC:Eventos para Maria Escribano Soprano
REFRESH-INTERVAL;VALUE=DURATION:PT1H
X-Robots-Tag:noindex
X-PUBLISHED-TTL:PT1H
BEGIN:VTIMEZONE
TZID:Europe/Madrid
BEGIN:DAYLIGHT
TZOFFSETFROM:+0100
TZOFFSETTO:+0200
TZNAME:CEST
DTSTART:20240331T010000
END:DAYLIGHT
BEGIN:STANDARD
TZOFFSETFROM:+0200
TZOFFSETTO:+0100
TZNAME:CET
DTSTART:20241027T010000
END:STANDARD
BEGIN:DAYLIGHT
TZOFFSETFROM:+0100
TZOFFSETTO:+0200
TZNAME:CEST
DTSTART:20250330T010000
END:DAYLIGHT
BEGIN:STANDARD
TZOFFSETFROM:+0200
TZOFFSETTO:+0100
TZNAME:CET
DTSTART:20251026T010000
END:STANDARD
BEGIN:DAYLIGHT
TZOFFSETFROM:+0100
TZOFFSETTO:+0200
TZNAME:CEST
DTSTART:20260329T010000
END:DAYLIGHT
BEGIN:STANDARD
TZOFFSETFROM:+0200
TZOFFSETTO:+0100
TZNAME:CET
DTSTART:20261025T010000
END:STANDARD
END:VTIMEZONE
BEGIN:VEVENT
DTSTART;VALUE=DATE:20251117
DTEND;VALUE=DATE:20251119
DTSTAMP:20260420T165930
CREATED:20251001T154820Z
LAST-MODIFIED:20251001T154820Z
UID:807-1763337600-1763510399@mariaescribanosoprano.com
SUMMARY:Concurso Villa de Teror
DESCRIPTION:Participante como semifinalista en el IX Concurso de Música Lírica ‘Villa de Teror’.
URL:https://mariaescribanosoprano.com/agenda/concurso-villa-de-teror/
CATEGORIES:Concurso
END:VEVENT
BEGIN:VEVENT
DTSTART;TZID=Europe/Madrid:20251030T190000
DTEND;TZID=Europe/Madrid:20251030T210000
DTSTAMP:20260420T165930
CREATED:20251001T154437Z
LAST-MODIFIED:20251001T154437Z
UID:804-1761850800-1761858000@mariaescribanosoprano.com
SUMMARY:Ópera Don Giovanni
DESCRIPTION:Representación del rol de Donna Anna en la ópera Don Giovanni de Mozart.
URL:https://mariaescribanosoprano.com/agenda/opera-don-giovanni/
LOCATION:Real Academia de las Bellas Artes\, Madrid\, Spain
CATEGORIES:Actuación,Ópera
END:VEVENT
BEGIN:VEVENT
DTSTART;VALUE=DATE:20251011
DTEND;VALUE=DATE:20251013
DTSTAMP:20260420T165930
CREATED:20251001T154036Z
LAST-MODIFIED:20251001T154940Z
UID:801-1760140800-1760313599@mariaescribanosoprano.com
SUMMARY:Concurso de Zarzuela Valleseco
DESCRIPTION:Participación como semifinalista en el XIII Certamen Internacional de Zarzuela de Valleseco (Canarias).
URL:https://mariaescribanosoprano.com/agenda/concurso-de-zarzuela-valleseco/
CATEGORIES:Concurso,Zarzuela
END:VEVENT
BEGIN:VEVENT
DTSTART;VALUE=DATE:20251003
DTEND;VALUE=DATE:20251006
DTSTAMP:20260420T165930
CREATED:20251001T153846Z
LAST-MODIFIED:20251001T155101Z
UID:799-1759449600-1759708799@mariaescribanosoprano.com
SUMMARY:Concurso Internacional de Logroño
DESCRIPTION:Participación como semifinalista en el 42º Concurso Internacional de Canto Ciudad de Logroño – La Rioja.
URL:https://mariaescribanosoprano.com/agenda/concurso-logrono/
CATEGORIES:Concurso,Ópera
END:VEVENT
END:VCALENDAR